BEGIN:VCALENDAR
VERSION:2.0
PRODID:-//Motoraduni - MotoGP Romagna - ECPv6.0.13//NONSGML v1.0//EN
CALSCALE:GREGORIAN
METHOD:PUBLISH
X-ORIGINAL-URL:https://www.motogpromagna.com
X-WR-CALDESC:Eventi per Motoraduni - MotoGP Romagna
REFRESH-INTERVAL;VALUE=DURATION:PT1H
X-Robots-Tag:noindex
X-PUBLISHED-TTL:PT1H
BEGIN:VTIMEZONE
TZID:Europe/Rome
BEGIN:DAYLIGHT
TZOFFSETFROM:+0100
TZOFFSETTO:+0200
TZNAME:CEST
DTSTART:20260329T010000
END:DAYLIGHT
BEGIN:STANDARD
TZOFFSETFROM:+0200
TZOFFSETTO:+0100
TZNAME:CET
DTSTART:20261025T010000
END:STANDARD
END:VTIMEZONE
BEGIN:VEVENT
DTSTART;VALUE=DATE:20260524
DTEND;VALUE=DATE:20260525
DTSTAMP:20260420T134309
CREATED:20260303T102352Z
LAST-MODIFIED:20260303T102352Z
UID:10005634-1779580800-1779667199@www.motogpromagna.com
SUMMARY:3° HENRY MOTORS  2026  Motoraduno Buggerru Sud Sardegna
DESCRIPTION:La 3° edizione del HENRY MOTORS\, Motoraduno e raduno di auto e moto d’epoca\, si tinge di blu. Blu sarà il colore predominante. Blu è il colore dell’autismo e di tutte le disabilità. \nQuest’anno il ricavato delle iscrizioni\, degli sponsor e ogni entrata economica\, tolte le spese sarà devoluto in beneficenza principalmente alle associazioni:\nSEA SCOUT Lo scopo della Sea Scout è quello di promuovere\, attraverso adeguate iniziative\, l’interesse per lo sport a ragazzi disabili. il suo team agonistico composto da atleti con disabilità col quale partecipa ai campionati di nuoto\, regionali e nazionali.\nGLI EQUILIBRISTI di San Giovanni Suergiu si occupa di promuovere attività sportive e sociali\, in particolare nel campo delle bocce paralimpiche. Inoltre\, l’associazione è impegnata nella promozione della salute e del benessere\, di esercizio fisico adattato per donne con malattie reumatologiche\, realizzato in collaborazione con l’ASL Sulcis Iglesiente e si propone di creare nuove opportunità di divertimento e di promozione sociale per persone con disabilità.\nDONATORINATI L’associazione è un’organizzazione no-profit che si occupa di promuovere la donazione di sangue e emocomponenti tra i membri della Polizia di Stato\, i loro familiari e la comunità. La loro missione è quella di sensibilizzare e educare la popolazione sull’importanza della donazione di sangue\, contribuendo a garantire la disponibilità di sangue e emocomponenti per le esigenze sanitarie \nCi saranno tantissimi spettacoli per grandi e piccoli\, stand\, zone Food&Drink\, avremmo gli stand delle associazioni citate prima\, musica\, stuntman e tanto altro che sveleremo man mano che si hanno conferme.\nAiutateci a donare un sorriso ai ragazzi con disabilità.
URL:https://www.motogpromagna.com/event/3-henry-motors-2026-motoraduno-buggerru-sud-sardegna/
LOCATION:Sud Sardegna\, Italia
CATEGORIES:Motoraduno
ATTACH;FMTTYPE=image/jpeg:https://www.motogpromagna.com/wp-content/uploads/2026/03/04-1.jpg
END:VEVENT
END:VCALENDAR