BEGIN:VCALENDAR
VERSION:2.0
PRODID:-//Motoraduni - MotoGP Romagna - ECPv6.0.13//NONSGML v1.0//EN
CALSCALE:GREGORIAN
METHOD:PUBLISH
X-WR-CALNAME:Motoraduni - MotoGP Romagna
X-ORIGINAL-URL:https://www.motogpromagna.com
X-WR-CALDESC:Eventi per Motoraduni - MotoGP Romagna
REFRESH-INTERVAL;VALUE=DURATION:PT1H
X-Robots-Tag:noindex
X-PUBLISHED-TTL:PT1H
BEGIN:VTIMEZONE
TZID:Europe/Rome
BEGIN:DAYLIGHT
TZOFFSETFROM:+0100
TZOFFSETTO:+0200
TZNAME:CEST
DTSTART:20230326T010000
END:DAYLIGHT
BEGIN:STANDARD
TZOFFSETFROM:+0200
TZOFFSETTO:+0100
TZNAME:CET
DTSTART:20231029T010000
END:STANDARD
BEGIN:DAYLIGHT
TZOFFSETFROM:+0100
TZOFFSETTO:+0200
TZNAME:CEST
DTSTART:20240331T010000
END:DAYLIGHT
BEGIN:STANDARD
TZOFFSETFROM:+0200
TZOFFSETTO:+0100
TZNAME:CET
DTSTART:20241027T010000
END:STANDARD
BEGIN:DAYLIGHT
TZOFFSETFROM:+0100
TZOFFSETTO:+0200
TZNAME:CEST
DTSTART:20250330T010000
END:DAYLIGHT
BEGIN:STANDARD
TZOFFSETFROM:+0200
TZOFFSETTO:+0100
TZNAME:CET
DTSTART:20251026T010000
END:STANDARD
END:VTIMEZONE
BEGIN:VEVENT
DTSTART;VALUE=DATE:20230507
DTEND;VALUE=DATE:20230508
DTSTAMP:20260420T104538
CREATED:20230509T213741Z
LAST-MODIFIED:20230509T213741Z
UID:10000503-1683417600-1683503999@www.motogpromagna.com
SUMMARY:BIKERS PER LA VITA 2023 Motoraduno BERNALDA Matera
DESCRIPTION:Organizzatore: Bikersperlavita info@bikersperlavita.it  Nasce Bikers Per La Vita l’evento di mototurismo che ha come obiettivo fare del bene  scoprendo i posti più suggestivi della nostra Italia  partecipando a spettacoli musicali e culturali  di convivio e di intrattenimento.  8:30 MOTOGIRO 15:30 FESTA A METAPONTO  Una passeggiata in moto per 160 km  attraversando la Basilicata  dalla collina alla montagna sino al mare. Le tappe previste saranno: Bernalda  Noepoli e Metaponto. Per i bikers parteci
URL:https://www.motogpromagna.com/event/bikers-per-la-vita-2023-motoraduno-bernalda-matera/
LOCATION:Matera\, Basilicata\, Matera\, MT\, Italia
END:VEVENT
BEGIN:VEVENT
DTSTART;VALUE=DATE:20230604
DTEND;VALUE=DATE:20230605
DTSTAMP:20260420T104538
CREATED:20230522T081748Z
LAST-MODIFIED:20230522T081748Z
UID:10000814-1685836800-1685923199@www.motogpromagna.com
SUMMARY:2° MOTOGIRO FREE SPIRIT BIKERS CLUB 2023 Motoraduno Ferrandina Matera
DESCRIPTION:Organizzatore: Free Spirit Bikers Club\nFreespirit.bikersclub@gmail.com \nGODREMO DI 170 KM DI CURVE E PANORAMI MOZZAFIATO \nProgramma:\nore 08.30 ritrovo e iscrizioni’ a Ferrandina (MT)\n(€ 30\,00 p.p. per colazione e pranzo)*\nore 09.00 partenza del motogiro con sosta a metà percorso\nore 13.30 arrivo a destinazione e pranzo \nAdesioni e acconto di 10€ dovranno essere dati entro il 28 maggio\n* Colazione: caffè e cornetto o solo succo di frutta – Pranzo: antipasto\, due primi\, un secondo\, bevande\, caffè e digestivo compresi.
URL:https://www.motogpromagna.com/event/2-motogiro-free-spirit-bikers-club-2023-motoraduno-ferrandina-matera/
LOCATION:Matera\, Basilicata\, Matera\, MT\, Italia
CATEGORIES:Motoraduno
ATTACH;FMTTYPE=image/jpeg:https://www.motogpromagna.com/wp-content/uploads/2023/05/08-7.jpg
END:VEVENT
BEGIN:VEVENT
DTSTART;VALUE=DATE:20230624
DTEND;VALUE=DATE:20230625
DTSTAMP:20260420T104538
CREATED:20230619T080541Z
LAST-MODIFIED:20230619T080708Z
UID:10001041-1687564800-1687651199@www.motogpromagna.com
SUMMARY:26° DOG SOLDIERS 2023 Motoraduno Matera
DESCRIPTION:Organizzatore: Indian bikers MC Mother Matera \nGli INDIAN BIKERS MC MOTHER MATERA sono lieti di invitarvi alla\n26esima edizione del Motoraduno\, Bike Show/Rock Festival più longevo del sud Italia\, il “DOG SOLDIERS”:\nFree Camping\, Stands\, Beer\, Bikes and More… \nSabato 24 GIUGNO 2023\nSTART CONCERT SHOW: Ore 21:00\nPresso la club house INDIAN BIKERS MC MOTHER MATERA si alterneranno sul palco:\nThe NUCLEARS\nCHRISTINE IX \nPima durante e dopo il concerto DJ SET:\nMATTLEI & BABISAN\n…\nVi aspettiamo numerosi per rockeggiare assieme.
URL:https://www.motogpromagna.com/event/4731/
LOCATION:Matera\, Basilicata\, Matera\, MT\, Italia
CATEGORIES:Motoraduno
ATTACH;FMTTYPE=image/jpeg:https://www.motogpromagna.com/wp-content/uploads/2023/06/01-7.jpg
END:VEVENT
BEGIN:VEVENT
DTSTART;VALUE=DATE:20230916
DTEND;VALUE=DATE:20230917
DTSTAMP:20260420T104538
CREATED:20230801T081007Z
LAST-MODIFIED:20230911T082912Z
UID:10001346-1694822400-1694908799@www.motogpromagna.com
SUMMARY:THAT'S ALL FOLKS! 2023 Motoraduno Matera
DESCRIPTION:presso la CLUBHOUSE IBMC MOTHER MATERA \nibmc.nomads@indianbikersmc.it
URL:https://www.motogpromagna.com/event/indian-bikers-mc-nomads-2023-motoraduno-matera/
LOCATION:Matera\, Basilicata\, Matera\, MT\, Italia
CATEGORIES:Motoraduno
ATTACH;FMTTYPE=image/jpeg:https://www.motogpromagna.com/wp-content/uploads/2023/08/04-scaled.jpg
END:VEVENT
BEGIN:VEVENT
DTSTART;VALUE=DATE:20240211
DTEND;VALUE=DATE:20240212
DTSTAMP:20260420T104538
CREATED:20240209T104026Z
LAST-MODIFIED:20240209T104026Z
UID:10002065-1707609600-1707695999@www.motogpromagna.com
SUMMARY:TOUR COAST TO COAST 2024 Motoraduno Metaponto Matera
DESCRIPTION:Organizzatore: powerbikerspuglia by giusy e vito \nTour Coast to Coast tra mare e montagna\nStart ore 9.00 partendo da Metaponto raggiungeremo la Grotta del Romito antico rifugio risalente a più di 2000 anni fa !\nProseguiremo passando per Scalea\, tra i più antichi borghi dell’alto Tirreno fino a Diamante\, da molti soprannominata\, “Perla del Tirreno”\, è famosa per le sue bellezze naturali e per le sue ricche tradizioni. Situata lungo la Costa dei Cedri\, questa città affascina i visitatori con le sue acque cristalline\, le sue spiagge dorate e i suoi pittoreschi vicoli pieni di storia.
URL:https://www.motogpromagna.com/event/tour-coast-to-coast-2024-motoraduno-metaponto-matera/
LOCATION:Matera\, Basilicata\, Matera\, MT\, Italia
CATEGORIES:Motoraduno
ATTACH;FMTTYPE=image/jpeg:https://www.motogpromagna.com/wp-content/uploads/2024/02/02-3.jpg
END:VEVENT
BEGIN:VEVENT
DTSTART;VALUE=DATE:20240427
DTEND;VALUE=DATE:20240428
DTSTAMP:20260420T104538
CREATED:20240328T130456Z
LAST-MODIFIED:20240328T130456Z
UID:10002326-1714176000-1714262399@www.motogpromagna.com
SUMMARY:28° ANNIVERSARY PARTY RUN WITH BAD TWIN COMPANY 2024 Motoraduno Matera
DESCRIPTION:Organizzatore: INDIAN BIKERS MC MOTHER MATERA\ninfo@indianbikersmc.it \nINDIAN BIKERS MC MOTHER MATERA in ricorrenza del 28° anniversario organizza il’annuale “Anniversary Party – Run with Bad Twin Company” presso la sede del Motorcycle Club in Contrada Serra S. Angelo (nelle vicinanze della Grotta dei Pipistrelli) a Matera. \nSABATO 27 Aprile 2024:\nPartenza Run : Club House INDIAN BIKERS MC SOUTH ITALY -MATERA\nOre: 16:30 aperto a tutti i tipi di “moto”.\nRientro in Club House per Bikerfest .
URL:https://www.motogpromagna.com/event/28-anniversary-party-run-with-bad-twin-company-2024-motoraduno-matera/
LOCATION:Matera\, Basilicata\, Matera\, MT\, Italia
CATEGORIES:Motoraduno
ATTACH;FMTTYPE=image/jpeg:https://www.motogpromagna.com/wp-content/uploads/2024/03/08-7.jpg
END:VEVENT
BEGIN:VEVENT
DTSTART;VALUE=DATE:20240427
DTEND;VALUE=DATE:20240428
DTSTAMP:20260420T104538
CREATED:20240319T105320Z
LAST-MODIFIED:20240319T105320Z
UID:10002267-1714176000-1714262399@www.motogpromagna.com
SUMMARY:28° RUN WITH BAD TWIN COMPANY 2024 Motoraduno Matera
DESCRIPTION:INDIAN BIKERS MC MOTHER MATERA \nCLUBHOUSE MATERA CONTRADA LE PIANE VICINO GROTTA DEI PIPISTRELLI
URL:https://www.motogpromagna.com/event/28-run-with-bad-twin-company-2024-motoraduno-matera/
LOCATION:Matera\, Basilicata\, Matera\, MT\, Italia
CATEGORIES:Motoraduno
ATTACH;FMTTYPE=image/jpeg:https://www.motogpromagna.com/wp-content/uploads/2024/03/16-1.jpg
END:VEVENT
BEGIN:VEVENT
DTSTART;VALUE=DATE:20240505
DTEND;VALUE=DATE:20240506
DTSTAMP:20260420T104538
CREATED:20240502T201809Z
LAST-MODIFIED:20240502T201809Z
UID:10002561-1714867200-1714953599@www.motogpromagna.com
SUMMARY:BIKERS PER LA VITA 2024 Motoraduno Bernalda Matera
DESCRIPTION:Organizzatore: Bikersperlavita \nDopo il successo della prima\, ritorna il 5 maggio con tanta attesa la seconda edizione di Bikers per la vita 2024. Il programma prevede due fasi. A dare il via sarà un moto tour che parte da Bernalda fino a Pomarico con rientro a Metaponto Lido in piazza Alessidamo dove si darà il via al festival aperto a tutti: amanti delle due ruote e non\, comprese famiglie che desiderano trascorrere una domenica pomeriggio all’insegna del divertimento e non solo. Il festival si aprirà con i saluti da parte delle istituzioni patrocinanti l’evento\, il Comune di Bernalda ed il Comune di Pomarico\, tra i quali si stringerà ufficialmente il Patto di Amicizia promosso dall’Associazione “Bikers per la vita”. Per l’occasione verrà presentato anche il progetto di Mototerapia a cura di Luca Nuzzo\, terapista delle neuro e psicomotricità dell’età evolutiva\, tecnico del comportamento RBT\, fondatore e responsabile scientifico dell’associazione “La MotoTerapia”. L’evento sostiene il progetto sociale “Scopri il mio mondo” costituito da una serie di iniziative promosse e gestite direttamente dall’associazione Bikers per la vita\, volte a sensibilizzare e far conoscere il mondo dell’autismo e le problematiche del neurosviluppo. Al fine di scoprire il sound più unico\, ma anche emozionante che donerà dopo una sinfonia di potenza\, quell’adrenalina in più agli amanti delle due ruote\, si darà spazio alla gara Sound & Style gestita da Pomarican Chopper\, dove anche sullo stile maggiore si avranno gli occhi puntati. Non poteva che non mancare un momento musicale di puro divertimento per tutti che vede esibirsi un DJ Set e l’esibizione del talentuoso Mirko Gisonte\, chitarrista e compositore lucano che travolgerà i presenti nelle note della musica popolare. Divertimento anche per i più piccini che saranno impegnati in svariati giochi. Sarà presente nella piazza anche un’area street food. A concludere l’evento lo spettacolo dell’attore\, comico e cabarettista italiano\, Uccio De Santis. Presenterà l’evento la giornalista Cristina Longo.\nL’evento è organizzato dall’Associazione “Bikers per la vita” in collaborazione con l’associazione “Leucippo” – Operatori turistici Metaponto\, associazione “Viva” artigiani e commercianti di Bernalda e Metaponto\, e CSEN Basilicata (Centro sportivo educativo nazionale)\, con il quale l’associazione “Bikers per la vita” è legata in simbiosi dalla manifestata volontà di collaborare e rendere il mondo dello sport realmente inclusivo.
URL:https://www.motogpromagna.com/event/bikers-per-la-vita-2024-motoraduno-bernalda-matera/
LOCATION:Matera\, Basilicata\, Matera\, MT\, Italia
CATEGORIES:Motoraduno
ATTACH;FMTTYPE=image/jpeg:https://www.motogpromagna.com/wp-content/uploads/2024/05/03-1.jpg
END:VEVENT
BEGIN:VEVENT
DTSTART;VALUE=DATE:20240511
DTEND;VALUE=DATE:20240513
DTSTAMP:20260420T104538
CREATED:20240510T181753Z
LAST-MODIFIED:20240510T181753Z
UID:10002605-1715385600-1715558399@www.motogpromagna.com
SUMMARY:CAMPIONATO ITALIANO MOTOCROSS JUNIOR - SEL. ZONA SUD 2024 Gara Moto MONTALBANO JONICO  MATERA
DESCRIPTION:M.C. MONTALBANO JONICO
URL:https://www.motogpromagna.com/event/campionato-italiano-motocross-junior-sel-zona-sud-2024-gara-moto-montalbano-jonico-matera/
LOCATION:Matera\, Basilicata\, Matera\, MT\, Italia
CATEGORIES:Gara Motociclistica
END:VEVENT
BEGIN:VEVENT
DTSTART;VALUE=DATE:20240602
DTEND;VALUE=DATE:20240603
DTSTAMP:20260420T104538
CREATED:20240429T163822Z
LAST-MODIFIED:20240429T163822Z
UID:10002526-1717286400-1717372799@www.motogpromagna.com
SUMMARY:9° RADUNO AUTO E MOTO D'EPOCA CITTA' DI MONTESCAGLIOSO 2024 Motoraduno Montescaglioso Matera
DESCRIPTION:Organizzatore: Old School Garage Montescaglioso\noldschoolgarage@tiscali.it \nDopo il successo delle precedenti edizioni del Raduno Auto e Moto d’Epoca Città di Montescaglioso…l’ A.S.D. Old School Garage Montescaglioso organizza il 9° Raduno di veicoli storici in programma per il 2 Giugno 2024.
URL:https://www.motogpromagna.com/event/9-raduno-auto-e-moto-depoca-citta-di-montescaglioso-2024-motoraduno-montescaglioso-matera/
LOCATION:Matera\, Basilicata\, Matera\, MT\, Italia
CATEGORIES:Motoraduno
END:VEVENT
BEGIN:VEVENT
DTSTART;VALUE=DATE:20240628
DTEND;VALUE=DATE:20240630
DTSTAMP:20260420T104538
CREATED:20240618T090154Z
LAST-MODIFIED:20240618T090154Z
UID:10002907-1719532800-1719705599@www.motogpromagna.com
SUMMARY:27° DOG SOLDIERS 2024 Motoraduno Lido di Metaponto Matera
DESCRIPTION:Organizzatore: Indian bikers MC Mother Matera\ninfo@indianbikersmc.it \n27esima edizione del “DOG SOLDIERS” Bike Show & Rock Festival\nAppuntamento Bikers e rock&roll più famoso e longevo del Sud Italia\, sin dal 1996. \nil 28 e 29 Giugno 2024 presso il Camping JULIA\, a Metaponto Lido a 350m dal mare!!!!\n2 giorni di BikersFest\, all’insegna di Live Show * Burlesque * Bikers Games * Camping * Food & Drink \nSul palco si succederanno nei 2 giorni di Festival:\nKODACLIPS – TATH’S ALL FOLKS – POSEYDON MANEATERS – ROCKIN RIOT! – A.M.P. \nprima durante e dopo lo show DJ SET by BABYSAN * MATTLEI * MICHELE ROSSIELLO * LEO CENTOLA
URL:https://www.motogpromagna.com/event/27-dog-soldiers-2024-motoraduno-lido-di-metaponto-matera/
LOCATION:Matera\, Basilicata\, Matera\, MT\, Italia
CATEGORIES:Motoraduno
ATTACH;FMTTYPE=image/jpeg:https://www.motogpromagna.com/wp-content/uploads/2024/06/07-4.jpg
END:VEVENT
BEGIN:VEVENT
DTSTART;VALUE=DATE:20240713
DTEND;VALUE=DATE:20240714
DTSTAMP:20260420T104538
CREATED:20240708T071244Z
LAST-MODIFIED:20240708T071244Z
UID:10003078-1720828800-1720915199@www.motogpromagna.com
SUMMARY:3° MOTORADUNO CITTA' DI FERRANDINA 2024 Motoraduno Ferrandina Matera
DESCRIPTION:Organizzatore: FreeSpirit Ferrandina\nFreespirit.bikersclub@gmail.com \n3° MOTORADUNO CITTÀ DI FERRANDINA.\n13 Luglio 2024- Piazza Plebiscito\nProgramma:\n~ 8.30: accoglienza\, colazioni e consegna gadget\n~ 10.00: partenza motogiro in direzione Bernalda (MT) per la visita guidata al “Castello Aragonese” con rinfresco offerto dalla Proloco di Bernalda\n~13.00: pranzo presso Suite 22\n~16.30: premiazioni vincitori contest\n~17.30: inizio intrattenimento per grandi e bambini\n~19.00: apertura stand street food “Macelleria da Giuseppe”\n~19.30: spettacolo stuntman a cura di “Trial show accademy”\n~21.30: concerto cover band “Loveplay”- cover Coldplay \n€30 colazione + gadget + pranzo\n€8 colazione+ gadget
URL:https://www.motogpromagna.com/event/3-motoraduno-citta-di-ferrandina-2024-motoraduno-ferrandina-matera/
LOCATION:Matera\, Basilicata\, Matera\, MT\, Italia
CATEGORIES:Motoraduno
ATTACH;FMTTYPE=image/jpeg:https://www.motogpromagna.com/wp-content/uploads/2024/07/04-5.jpg
END:VEVENT
BEGIN:VEVENT
DTSTART;VALUE=DATE:20240823
DTEND;VALUE=DATE:20240826
DTSTAMP:20260420T104538
CREATED:20240808T083328Z
LAST-MODIFIED:20240808T083328Z
UID:10003233-1724371200-1724630399@www.motogpromagna.com
SUMMARY:26° MOTORADUNO NAZIONALE 2024 Motoraduno Scanzano Jonico Matera
DESCRIPTION:Organizzatore: MOTOCLUB SALANDRA \nVENERDI’ 23 AGOSTO\n• ore 18:00 accoglienza al campo sportivo di Montalbano J.co.\n• ore 20:00 rinfresco con intrattenimento musicale offerto dal bar Monsalbius \nSABATO 24 AGOSTO\n• ore 10:00 – ISCRIZIONI A SCANZANO JONICO PRESSO IL FARO\n€ 10\,00 FMI – ISCRIZIONI NON FMI € 15\,00\nComprende 1 Maglietta\, 1 colazione al bar\, 4 degustazioni il sabato.\nPer gli iscritti con € 15\,00 in più\, pranzo al ristorante il Faro.\n• ore 11:00 – Visita a Montalbano J. Degustazione di frutta fresca.\nSaluto del Sindaco.\n• ore 12:15 – Trasferimento al Caseificio Heraclea Scanzano J\, con dedustazione\n• ore 12:45 – Visita alla cantina Fontanarosa con degustazione di vini.\n• ore 13:30 – Pranzo con € 15\,00 al lido II Faro.\n• ore 16:30 – Partenza per Marinagni (Venezia del sud).\n• ore 18:00- Trastermento al Paniticio Cuccarose con degustazione dei prodotti tipici di qualità.\n• ore 18:30 – Partenza per Rabatana “Patrimonio artistico e culturale”\ndi Tursi\, visita guidata e saluto del sindaco Cosma Salvatore.\n• ore 20:00 – Grande festa e grande rinfresco con spettacolo di fine estate Tursitana offerto dall’Amministrazione Comunale di Tursi. \nDOMENICA 25 AGOSTO\n• ore 9:30 – 12:00 – ISCRIZIONI IN PIAZZA SAN ROCCO A SALANDRA (MT)\, € 10\,00 FMI – € 15\,00 NON FMI. COMPRENDE MAGLIETTA\, COLAZIONE AL BAR\, E CON € 15\,00 DI DIFFERENZA PRANZO AL RISTORANTE CON TORTA E SPUMANTE FINALE\n• ore 10:30 – Visita al patrimonio storico-artistico di Salandra\,\n• ore 11:00 – Educazione stradale a cura del C.O.RE. Basilicata\n• ore 11:30 – Saluto del Sindaco Giuseppe Soranno e benedizione del parroco Don Fabio Vena\n• ore 12:00 – Trasferimento a Craco città fantasma con proseguo\nal ristorante La Quercia\n• ore 14:00 – Premiazione come da regolamento FMI al ristorante La Quercia St. Prov. Pisticci Marconia\n• ore 16:00 visita guidata al museo Essenza Lucano con degustazione di Amaro Lucano
URL:https://www.motogpromagna.com/event/26-motoraduno-nazionale-2024-motoraduno-scanzano-jonico-matera/
LOCATION:Matera\, Basilicata\, Matera\, MT\, Italia
CATEGORIES:Motoraduno
ATTACH;FMTTYPE=image/jpeg:https://www.motogpromagna.com/wp-content/uploads/2024/08/05-3.jpg
END:VEVENT
BEGIN:VEVENT
DTSTART;VALUE=DATE:20240928
DTEND;VALUE=DATE:20240929
DTSTAMP:20260420T104538
CREATED:20240924T072303Z
LAST-MODIFIED:20240924T072303Z
UID:10003515-1727481600-1727567999@www.motogpromagna.com
SUMMARY:BISONS TRAIL 2024 INDIAN BIKERS MC NOMADS 2024 Motoraduno Matera
DESCRIPTION:Organizzatore: INDIAN BIKERS MC NOMADS\nibmc.nomads@indianbikersmc.it \nSTART Ore 21:00 Club House IBMC MATERA \nFREE CAMPING DRINK-FOOD & ROCK AND ROLL \nVi aspettiamo come sempre numerosi per scatenarci!!!
URL:https://www.motogpromagna.com/event/bisons-trail-2024-indian-bikers-mc-nomads-2024-motoraduno-matera/
LOCATION:Matera\, Basilicata\, Matera\, MT\, Italia
CATEGORIES:Motoraduno
ATTACH;FMTTYPE=image/jpeg:https://www.motogpromagna.com/wp-content/uploads/2024/09/03-7.jpg
END:VEVENT
BEGIN:VEVENT
DTSTART;VALUE=DATE:20240928
DTEND;VALUE=DATE:20240929
DTSTAMP:20260420T104538
CREATED:20240809T081909Z
LAST-MODIFIED:20240809T081909Z
UID:10003252-1727481600-1727567999@www.motogpromagna.com
SUMMARY:PARTY INDIAN BIKERS MC NOMADS 2024 Motoraduno Matera
DESCRIPTION:CLUB HOUSE INDIAN BIKERS MC MATERA\nin contrada le piane\, nei pressi della grotta dei pipistrelli
URL:https://www.motogpromagna.com/event/party-indian-bikers-mc-nomads-2024-motoraduno-matera/
LOCATION:Matera\, Basilicata\, Matera\, MT\, Italia
CATEGORIES:Motoraduno
ATTACH;FMTTYPE=image/jpeg:https://www.motogpromagna.com/wp-content/uploads/2024/08/15-scaled.jpg
END:VEVENT
BEGIN:VEVENT
DTSTART;VALUE=DATE:20250426
DTEND;VALUE=DATE:20250427
DTSTAMP:20260420T104538
CREATED:20250211T093907Z
LAST-MODIFIED:20250425T000959Z
UID:10003923-1745625600-1745711999@www.motogpromagna.com
SUMMARY:“29° RUN WITH BAD TWIN COMPANY” 2025 Motoraduno Matera
DESCRIPTION:26 aprile 2025 INDIAN BIKERS MC MOTHER MATERA \nibmc.nomads@indianbikersmc.it \npresso CLUB HOUSE INDIAN BIKERS MC MATERA\ncontrada le piane\, vicino grotta dei pipistrelli – MATERA
URL:https://www.motogpromagna.com/event/29-run-with-bad-twin-company-2025-motoraduno-matera/
LOCATION:Matera\, Basilicata\, Matera\, MT\, Italia
CATEGORIES:Motoraduno
ATTACH;FMTTYPE=image/jpeg:https://www.motogpromagna.com/wp-content/uploads/2025/02/anniversary--scaled.jpg
END:VEVENT
BEGIN:VEVENT
DTSTART;VALUE=DATE:20250511
DTEND;VALUE=DATE:20250512
DTSTAMP:20260420T104538
CREATED:20250425T003016Z
LAST-MODIFIED:20250425T003016Z
UID:10004402-1746921600-1747007999@www.motogpromagna.com
SUMMARY:MOTOTOUR 3° EDIZIONE  2025 Motoraduno Bernalda Matera
DESCRIPTION: info@bikersperlavita.it \nCentinaia di moto provenienti da tutto il Sud Italia\, che dopo la moto passeggiata tra Bernalda e Tursi si ritroveranno a Metaponto per l’apertura del festival\, tra musica e comicità! \nBERNALDA » TURSI » METAPONTO\nProgramma dell’Evento\nOre 8:30 – 10:30 Registrazione dei partecipanti presso la stazione di servizio Sergio Petroli (Megal) – SP 154\, Bernalda.\nOre 10:30 – Partenza per Tursi.\nOre 11:30 – Arrivo a Tursi:\n• Saluti istituzionali\n• Aperitivo di benvenuto\n• Benedizione dei caschi\nOre 13:30 – Partenza per Metaponto.\nOre 14:30 – Arrivo a Metaponto\, in Piazza Alessidamo.\nAVVIO DEL FESTIVAL (aperto a tutti)\n• Presenta l’evento Annamaria Sodano\n• Saluti istituzionali dei Comuni coinvolti\n• Presentazione del progetto “Psicomotricità sensoriale in moto” a cura del Dott. Luca Nuzzo\n• DJ Set\n• Special Contest a sorpresa\n• Concerto di “Andrea Vena”\n• Special guest: Mirko Gisonte\, la musica che racconta emozioni e radici lucane\n• Spettacolo comico del trio “La Ricotta”\n• Performance degli “Accipiter”: pura energia sul palco\n• Attività di intrattenimento dedicate a famiglie e bambini\n• Area street food e momenti di svago per tutti \nTutti gli iscritti al motogiro\, parteciperanno all’estrazione di un fantastico premio.\nCONTRBUTO € 10\,00 – Iscrizione\, gadget\, apertivo.\nParte del ricavato verrà devoluto a progetti social
URL:https://www.motogpromagna.com/event/mototour-3-edizione-2025-motoraduno-bernalda-matera/
LOCATION:Matera\, Basilicata\, Matera\, MT\, Italia
CATEGORIES:Motoraduno
ATTACH;FMTTYPE=image/png:https://www.motogpromagna.com/wp-content/uploads/2025/04/04-7.png
END:VEVENT
BEGIN:VEVENT
DTSTART;VALUE=DATE:20250622
DTEND;VALUE=DATE:20250623
DTSTAMP:20260420T104538
CREATED:20250616T094945Z
LAST-MODIFIED:20250616T094945Z
UID:10004754-1750550400-1750636799@www.motogpromagna.com
SUMMARY:L’EPOCA CHE CI PIACE  2025 Motoraduno Marconia Matera
DESCRIPTION:marconiaproloco@gmail.com \n\n\n\nRaduno auto e moto storiche a MARCONIA Piazza Elettra \nINGRESSO LIBERO\nQUOTA ISCRIZIONE VEICOLO € 5\,00 \nOre 8:30 RITROVO\, ISCRIZIONI\, ESPOSIZIONE VEICOLI – Colazione offerta da “Caffè Agora” e “Bar del Corso”!\nOre 10:30 Spettacolo TRIAL SHOW LAGONEGRO c/o Piazzale antistante Ufficio Postale Marconia\nOre 12:00 Premiazioni – Premio per la moto più antica\, Premio per l’automobile più antica\, Premio al conduttore più giovane\, Premio al conduttore più anziano\nOre 13:00 PARTENZA giro turistico nelle vie di Marconia diretto al Porto degli Argonauti c/o Marina di Pisticci. \nPrenota al 328.6644651 – 37747097740 il tuo pranzo entro 20 Giugno c/o ” C’è di Buono” (Porto degli Argonauti) Menù € 25\,00
URL:https://www.motogpromagna.com/event/lepoca-che-ci-piace-2025-motoraduno-marconia-matera/
LOCATION:Matera\, Basilicata\, Matera\, MT\, Italia
CATEGORIES:Motoraduno
END:VEVENT
BEGIN:VEVENT
DTSTART;VALUE=DATE:20250802
DTEND;VALUE=DATE:20250808
DTSTAMP:20260420T104538
CREATED:20250304T093048Z
LAST-MODIFIED:20250304T093048Z
UID:10004066-1754092800-1754611199@www.motogpromagna.com
SUMMARY:“JUBILEUM RUN” 2025 Motoraduno Matera
DESCRIPTION:RUN CHE SI SVOLGE OGNI 5 ANNI CON:\npartenza inaugurazione CLUB HOUSE IBMC AVELLINO 02/08/2025\narrivo inaugurazione CLUB HOUSE IBMC AGRIGENTO 07/08/2025
URL:https://www.motogpromagna.com/event/jubileum-run-2025-motoraduno-matera/
LOCATION:Matera\, Basilicata\, Matera\, MT\, Italia
CATEGORIES:Motoraduno
END:VEVENT
BEGIN:VEVENT
DTSTART;VALUE=DATE:20250821
DTEND;VALUE=DATE:20250823
DTSTAMP:20260420T104538
CREATED:20250808T050724Z
LAST-MODIFIED:20250808T050724Z
UID:10004965-1755734400-1755907199@www.motogpromagna.com
SUMMARY:MOTOTENDATA PATIPERROS – III EDIZIONE  2025 Motoraduno  Rotondella Matera
DESCRIPTION:VENITE IN PACE O NON VENITE AFFATTO! \nGIORNO 21\nDalle 09:00 Benvenuto ai partecipanti all’evento con sistemazione nelle varie aree attrezzate.\nNel pomeriggio è possibile visitare in autonomia il centro storico ed il museo Numismatico. \nGIORNO 22\nIl motoclub offrirà la torta in memoria del Cileno e Rock Ra Shell.\nDalle ore 18:00 in Piazza della Repubblica presso il centro storico di Rotondella si svolgerà il “ROCKONDELLA” festival. \nPosto tenda con uso bracieri\, legna\, patch e adesivo. \nDj-Set accompagnato da Birra artigianale in collaborazione con “Birrificio Honey Monkley”
URL:https://www.motogpromagna.com/event/mototendata-patiperros-iii-edizione-2025-motoraduno-rotondella-matera/
LOCATION:Matera\, Basilicata\, Matera\, MT\, Italia
CATEGORIES:Motoraduno
END:VEVENT
BEGIN:VEVENT
DTSTART;VALUE=DATE:20250822
DTEND;VALUE=DATE:20250824
DTSTAMP:20260420T104538
CREATED:20250808T051139Z
LAST-MODIFIED:20250808T051139Z
UID:10004966-1755820800-1755993599@www.motogpromagna.com
SUMMARY:27° MOTORA DUND NAZAONALE  2025  Motoraduno Grottole Matera
DESCRIPTION:PROVA TTR\nBELLEZZE PAESAGISTICHE LUCANE VIAGGIANDO\, VISITANDO E DEGUSTANDO \n€ 10\,00 COMPRENDE: 2 NOTTI Campeggio attrezzato “BOSCO COSTE TREFFEN”\, degustazioni nella giornata di venerdi\, colazione al bar e 6 degustazioni nella giornata di sabato\, pranzo convenzionato la domenica \nVenerdì 22\nore 15:30 accoglienza a con sistemazione al campeggio attrezzato Bosco Coste TREFFEN(Grottole)\nore 16:30 visita in moto nel cuore dei Sassi di Matera (PZZA San Pietro)\nore 18:30 visita all’Abbazia di San’ Antonio Abate (Grottole)\nore 21:00 rientro a Bosco Coste degustazione offerta (penne alla grottolese) e intrattenimento musicale \nSabato 23\nore 9:30 iscrizioni in Piazza Plebiscito – Scanzano Jonico omaggio “Mignon AMARO LUCANO”\, colazione offerta dal bar “Caffè Baronale” e saluto del Sindaco di Scanzano Jonico Pasquale Cariello ore 11:00 partenza per le Tavole Palatine\nore 12:30 chiusura iscrizioni e degustazione dei prodotti caseari del “Caseificio Maggiore” – SCANZANO J.CO\nore 13:00 degustazione prodotti da forno del ” Panificio Cuccarese” – SCANZANO J.CO\nore 13:30 visita e degustazione di vini pregiati presso cantine “Fontanarosa” – Scanzano Jonico ore 15:00 trasferimento nei calanchi di Montalbano Jonico presso il “292 Pub Ristorante”\, con degustazione di frutta locale e a seguire saluto del Sindaco di Montalbano Jonico Giuseppe Di Sanzo\nore 15:00 iscrizioni Largo San Rocco – Grottole\nore 16:00 partenza per Pomarico\, visita al patrimonio artistico e storico del paese\, saluti del Sindaco e Presidente dell Provincia di Pomarico Francesco Mancini (rinfresco offerto dall’ amministrazione)\nore 17:30 visita al castello di Miglionico e saluti del Sindaco Giulio Traietti (rinfresco offerto dall’ amministrazione)\nore 19:30 chiusura iscrizioni a Grottole \,Viale della Resistenza con visita guidata a cura dell’ associazione Made in Grottole\nore 21:00 Saluti del Sindaco Angelo De Vito\, benedizione del parroco Don Saverio Susai a seguire degustazione a cura dall’amministrazione comunale\nore 21:30 musica del grande dj Alex Petruzzi\n\nDomenica 24\nore 9:30 iscrizioni a Salandra in piazza San Rocco. € 10\,00 comprende: “Mignon AMARO LUCANO” MAGLIETTA\, COLAZIONE AL BAR E DEGUSTAZIONI CON LA DIFFERENZA DI € 15\,00 PRANZO SERVITO AL RISTORANTE “La Quercia” CON TORTA E SPUMANTE FINALE\nore 10:30 visita al patrimonio storico-artistico di Salandra\nore 11:30 saluti del sindaco di Salandra Giuseppe Soranno e benedizione del parroco Don Fabio Vena\nore 12:00 trasferimento a Craco (la città fantasma location del film “Basilicata oast to coast” )\nore 14:00 premiazione come da regolamento FMI al ristorante “La Quercia” (st. provinc Pisticci-Marconia)\nore 16:00 visita guidata al museo Essenza Lucana con degustazione di Amaro Lucano Scalo di Pisticci
URL:https://www.motogpromagna.com/event/27-motora-dund-nazaonale-2025-motoraduno-grottole-matera/
LOCATION:Matera\, Basilicata\, Matera\, MT\, Italia
CATEGORIES:Motoraduno
END:VEVENT
BEGIN:VEVENT
DTSTART;VALUE=DATE:20250927
DTEND;VALUE=DATE:20250928
DTSTAMP:20260420T104538
CREATED:20250318T092140Z
LAST-MODIFIED:20250318T092140Z
UID:10004187-1758931200-1759017599@www.motogpromagna.com
SUMMARY:INDIAN BIKERS MC NOMADS 2025 Motoraduno Matera
DESCRIPTION:presso CLUB HOUSE INDIAN BIKERS MC MATERA\ncontrada le piane\, vicino grotta dei pipistrelli – MATERA \n  \nibmc.nomads@indianbikersmc.it
URL:https://www.motogpromagna.com/event/indian-bikers-mc-nomads-2025-motoraduno-matera/
LOCATION:Matera\, Basilicata\, Matera\, MT\, Italia
CATEGORIES:Motoraduno
END:VEVENT
BEGIN:VEVENT
DTSTART;VALUE=DATE:20251031
DTEND;VALUE=DATE:20251101
DTSTAMP:20260420T104538
CREATED:20250403T084422Z
LAST-MODIFIED:20250403T084422Z
UID:10004274-1761868800-1761955199@www.motogpromagna.com
SUMMARY:HALLOWEEN CYCLEDELIC NIGHT 2025 Motoraduno Matera
DESCRIPTION:31 ottobre 2025 INDIAN BIKERS MC MOTHER MATERA \npresso CLUB HOUSE INDIAN BIKERS MC MATERA\ncontrada le piane\, vicino grotta dei pipistrelli – MATERA \n  \n388.6231510\ninfo@indianbikersmc.
URL:https://www.motogpromagna.com/event/halloween-cycledelic-night-2025-motoraduno-matera/
LOCATION:Matera\, Basilicata\, Matera\, MT\, Italia
CATEGORIES:Motoraduno
END:VEVENT
END:VCALENDAR