BEGIN:VCALENDAR
VERSION:2.0
PRODID:-//Motoraduni - MotoGP Romagna - ECPv6.0.13//NONSGML v1.0//EN
CALSCALE:GREGORIAN
METHOD:PUBLISH
X-WR-CALNAME:Motoraduni - MotoGP Romagna
X-ORIGINAL-URL:https://www.motogpromagna.com
X-WR-CALDESC:Eventi per Motoraduni - MotoGP Romagna
REFRESH-INTERVAL;VALUE=DURATION:PT1H
X-Robots-Tag:noindex
X-PUBLISHED-TTL:PT1H
BEGIN:VTIMEZONE
TZID:Europe/Rome
BEGIN:DAYLIGHT
TZOFFSETFROM:+0100
TZOFFSETTO:+0200
TZNAME:CEST
DTSTART:20250330T010000
END:DAYLIGHT
BEGIN:STANDARD
TZOFFSETFROM:+0200
TZOFFSETTO:+0100
TZNAME:CET
DTSTART:20251026T010000
END:STANDARD
END:VTIMEZONE
BEGIN:VEVENT
DTSTART;VALUE=DATE:20251214
DTEND;VALUE=DATE:20251215
DTSTAMP:20260420T183800
CREATED:20251209T105523Z
LAST-MODIFIED:20251209T105523Z
UID:10005386-1765670400-1765756799@www.motogpromagna.com
SUMMARY:I Moto Babbi 2025 – 2ª Edizione  2025 Motoraduno Fasano Brindisi
DESCRIPTION:I Moto Babbi 2025 – 2ª Edizione \nDomenica 14 dicembre torna l’evento più rumoroso e natalizio dell’anno!\nUn’onda di Babbi Natale in moto invaderà Monopoli per portare sorrisi\, solidarietà e tanta magia natalizia! \n\n\n PROGRAMMA\n• 09:00 – Ritrovo al Bar Mirval\n• 09:30 – Partenza per Fasano – Istituto Sacro Cuore\n• 11:00 – Arrivo all’Ospedale San Giacomo di Monopoli – Reparto Pediatria\n• 12:00 – Motogiro per le vie di Monopoli e arrivo in Piazza: festa sotto l’Albero di Natale con animazione per grandi e piccoli… e la presenza speciale di Bumblebee! \n\n\nPer info & Partecipazione entra nel gruppo Whatsapp ..!!! \nhttps://chat.whatsapp.com/JXld5mw1xqvBRgpPuwB7tW\n\n\n Vi aspettiamo numerosi per una giornata di gioia\, motori e solidarietà! \n@fanpiùattivi
URL:https://www.motogpromagna.com/event/i-moto-babbi-2025-2a-edizione-2025-motoraduno-fasano-brindisi/
LOCATION:Brindisi\, Puglia\, Brindisi\, BR\, Italia
CATEGORIES:Motoraduno
ATTACH;FMTTYPE=image/jpeg:https://www.motogpromagna.com/wp-content/uploads/2025/12/09-1.jpg
END:VEVENT
END:VCALENDAR