BEGIN:VCALENDAR
VERSION:2.0
PRODID:-//Motoraduni - MotoGP Romagna - ECPv6.0.13//NONSGML v1.0//EN
CALSCALE:GREGORIAN
METHOD:PUBLISH
X-WR-CALNAME:Motoraduni - MotoGP Romagna
X-ORIGINAL-URL:https://www.motogpromagna.com
X-WR-CALDESC:Eventi per Motoraduni - MotoGP Romagna
REFRESH-INTERVAL;VALUE=DURATION:PT1H
X-Robots-Tag:noindex
X-PUBLISHED-TTL:PT1H
BEGIN:VTIMEZONE
TZID:Europe/Rome
BEGIN:DAYLIGHT
TZOFFSETFROM:+0100
TZOFFSETTO:+0200
TZNAME:CEST
DTSTART:20260329T010000
END:DAYLIGHT
BEGIN:STANDARD
TZOFFSETFROM:+0200
TZOFFSETTO:+0100
TZNAME:CET
DTSTART:20261025T010000
END:STANDARD
END:VTIMEZONE
BEGIN:VEVENT
DTSTART;VALUE=DATE:20260423
DTEND;VALUE=DATE:20260427
DTSTAMP:20260426T044734
CREATED:20260420T124519Z
LAST-MODIFIED:20260420T124654Z
UID:10005924-1776902400-1777247999@www.motogpromagna.com
SUMMARY:CIV Femminile 2026 Gara Moto Misano Rimini
DESCRIPTION:Test | Misano
URL:https://www.motogpromagna.com/event/civ-femminile-2026-gara-moto-misano-rimini/
LOCATION:Rimini\, Emilia Romagna\, Rimini\, RN\, Italia
CATEGORIES:Gara Motociclistica
END:VEVENT
BEGIN:VEVENT
DTSTART;VALUE=DATE:20260424
DTEND;VALUE=DATE:20260427
DTSTAMP:20260426T044734
CREATED:20260119T085147Z
LAST-MODIFIED:20260119T085147Z
UID:10005440-1776988800-1777247999@www.motogpromagna.com
SUMMARY:BLUE FLAME FREEDOM 2026 Motoraduno Latina
DESCRIPTION:dettagli in locandina
URL:https://www.motogpromagna.com/event/blue-flame-freedom-2026-motoraduno-latina/
LOCATION:Latina\, Lazio\, Latina\, LT\, Italia
CATEGORIES:Motoraduno
ATTACH;FMTTYPE=image/jpeg:https://www.motogpromagna.com/wp-content/uploads/2026/01/04-2.jpg
END:VEVENT
BEGIN:VEVENT
DTSTART;VALUE=DATE:20260424
DTEND;VALUE=DATE:20260427
DTSTAMP:20260426T044734
CREATED:20260212T111049Z
LAST-MODIFIED:20260212T111049Z
UID:10005532-1776988800-1777247999@www.motogpromagna.com
SUMMARY:PORTO AZZURRO – ISOLA D’ELBA  2026  Motoraduno Porto Azzurro Livorno
DESCRIPTION:info@elbacomicsplusplayers.it \n\nQuest’anno il ponte del 25 aprile si tinge dei colori del fumetto! Il Vespa Club Isola d’Elba vi invita al raduno più originale e festante dell’anno in occasione di Elba Comics +Players.\n\nNon sarà il solito giro\, ma un’esperienza immersiva tra:\n• Giro panoramico\n• Aperitivo vista mare\n• Premi speciali per le vespe ed i vespisti più originali \nSTAY TUNED! \nMettete in sella la vostra passione (e magari un tocco di stile manga!) e unitevi alla festa.\nSarà un weekend di miscela\, mare e fum
URL:https://www.motogpromagna.com/event/porto-azzurro-isola-delba-2026-motoraduno-porto-azzurro-livorno/
LOCATION:Livorno\, Toscana\, Livorno\, LI\, Italia
CATEGORIES:Motoraduno
ATTACH;FMTTYPE=image/jpeg:https://www.motogpromagna.com/wp-content/uploads/2026/02/10-2.jpg
END:VEVENT
BEGIN:VEVENT
DTSTART;VALUE=DATE:20260424
DTEND;VALUE=DATE:20260427
DTSTAMP:20260426T044734
CREATED:20260317T110106Z
LAST-MODIFIED:20260317T110106Z
UID:10005710-1776988800-1777247999@www.motogpromagna.com
SUMMARY:19° EXPO MOTORI PISA  2026  Motoraduno Ospedaletto Pisa
DESCRIPTION:Expo Motori è un evento dedicato al mondo delle 2 e delle 4 ruote che si tiene a Ospedaletto (PI) dal 24 al 26 Aprile 2026\, all’interno della manifestazione potrete trovare concessionarie moto\, accessori\, abbigliamento e merchandising e naturalmente food drink e tanta musica\,  ma ciò che rende Expo Motori un evento unico nel suo genere sono i suoi spettacoli eseguiti dai migliori Stunt man d’Italia e non solo.\n\n\nServizi:\nAll’interno dell’area Expo ampio parcheggio auto e moto (oltre 4000 posti)\, tabaccheria\, ristorante\, punti ristoro\, bar\, servizi igienici. \nApertura al pubblico:\nVenerdi 24 – dalle 15 alle 24\nSabato 25 – dalle 10 alle 24\nDomenica 26 – dalle 10 alle 20
URL:https://www.motogpromagna.com/event/19-expo-motori-pisa-2026-motoraduno-ospedaletto-pisa/
LOCATION:Pisa\, Toscana\, Pisa\, PI\, Italia
CATEGORIES:Motoraduno
ATTACH;FMTTYPE=image/jpeg:https://www.motogpromagna.com/wp-content/uploads/2026/03/02-5.jpg
END:VEVENT
BEGIN:VEVENT
DTSTART;VALUE=DATE:20260424
DTEND;VALUE=DATE:20260427
DTSTAMP:20260426T044734
CREATED:20260324T103131Z
LAST-MODIFIED:20260324T103131Z
UID:10005754-1776988800-1777247999@www.motogpromagna.com
SUMMARY:7° LAMPS E SAETIS  2026 Motoraduno Corno di Rosazzo Udine
DESCRIPTION:delnegrofrancesco@libero.it \n\n\nL’evento che fa rombare la passione!\nAPERTO a tutti i tipi di MOTO \nVenerdì 24 aprile 2026\n– ORE 18.00: Inizio festeggiamenti ed apertura chioschi\n– ORE 19.00: Apertura cucina\n– DALLE 19.00: DJ SET con “Kris Simon Dj” \nSabato 25 aprile 2026\n– ORE 11.00: Apertura cucina\n– ORE 14.00: DJ Set con “DJ FILIPPOODELLA”\n– ORE 19.30: Live music Rock con la band “Tres Hombres”\n– ORE 22.00: Live music con la Band “Machine Guns”\n– ORE 01.30: Taglio del prosciutto \nDomenica 26 aprile 2026\n– ORE 11.00: Apertura cucina\n– ORE 14.00: DJ Set con “Tomix DJ”\nLuogo: Via Marco Simoncelli n° 5\, Corno di Rosazzo\n– Area Ristoro COPERTA da leccarsi i baffi! I chioschi gestiti dalle mitiche _SAETTE_ ti delizieranno con il meglio del cibo tipico friulano\, preparato con amore e maestria. E per dissetarti\, ottima birra locale\, vino e cocktail….\n– Zona Camping da urlo! Se vuoi vivere l’esperienza al 100%\, puoi campeggiare nell’area apposita\, con possibilità di docce calde e bagni. Un modo per stare ancora più vicini alla tua passione e fare nuove amicizie sotto le stelle! FREE Camping Tenda e Saccopelisti ma anche possibilità di pernotto presso B&B \n– Parcheggio Moto: un’oasi per la tua due ruote Non dovrai preoccuparti di dove parcheggiare la tua moto: avrai a disposizione un’area dedicata e sicura.\n– Musica\, Spettacolo e Divertimento a gogo!\n– DJ set che ti faranno compagnia durante il giorno\n– Live Band che ti faranno ascoltare ottimo rock\n– Intrattenimento esplosivo con foto ricordo da urlo!\n– Stand Dedicati\n– E non è finita qui… Ci saranno *novità e sorprese* che ti lasceranno a bocca aperta! \nIMPORTANTE\nNon prendere impegni per quel weekend! Il “7° LAMPS & SAETIS” è l’evento che non puoi assolutamente mancare! \nL’EVENTO SI TERRA’ CON QUALSIASI CONDIZIONE ATMOSFERICA
URL:https://www.motogpromagna.com/event/7-lamps-e-saetis-2026-motoraduno-corno-di-rosazzo-udine/
LOCATION:Udine\, Friuli Venezia Giulia\, Udine\, UD\, Italia
CATEGORIES:Motoraduno
ATTACH;FMTTYPE=image/jpeg:https://www.motogpromagna.com/wp-content/uploads/2026/03/07-7.jpg
END:VEVENT
BEGIN:VEVENT
DTSTART;VALUE=DATE:20260424
DTEND;VALUE=DATE:20260427
DTSTAMP:20260426T044734
CREATED:20260413T143022Z
LAST-MODIFIED:20260413T143022Z
UID:10005831-1776988800-1777247999@www.motogpromagna.com
SUMMARY:APERTURA STAGIONE MALNAT 2026 Motoraduno  Muggiò Monza Brianza
DESCRIPTION:VEN 24 APRILE\n• 12.00 – APERTURA\nINTRATTENIMENTO BIKERS & FOOD\n• 21.00 – PUBLIUS ENIGMA\nMUSICA LIVE – TRIBUTO PINK FLOYD \nSAB 25 APRILE\n• 12.00 – APERTURA\nINTRATTENIMENTO BIKERS & FOOD\n• 21.00 – UNDERCOVER\nMUSICA LIVE – HARD ROCK ANNI 70 \nDOM 26 APRILE\n• 12.00 – APERTURA\nPRANZO DOMENICALE\n• 15.00 – MEGASHOW\nMUSICA LIVE – TRIBUTO VASCO ROSSI \nFOOD & DRINKS\nFREE CAMPING\nLIVE MUSIC\nGIOCHI & STAND\nFREE ENTRY
URL:https://www.motogpromagna.com/event/apertura-stagione-malnat-2026-motoraduno-muggio-monza-brianza/
LOCATION:Monza-Brianza\, Lombardia\, Monza-Brianza\, MB\, Italia
CATEGORIES:Motoraduno
ATTACH;FMTTYPE=image/jpeg:https://www.motogpromagna.com/wp-content/uploads/2026/04/04-3.jpg
END:VEVENT
BEGIN:VEVENT
DTSTART;VALUE=DATE:20260424
DTEND;VALUE=DATE:20260427
DTSTAMP:20260426T044734
CREATED:20260416T085635Z
LAST-MODIFIED:20260416T085635Z
UID:10005905-1776988800-1777247999@www.motogpromagna.com
SUMMARY:2° FMI CAMPING TROPHY 2026 Gara Moto Grado GORIZIA
DESCRIPTION:DANILO VIAN
URL:https://www.motogpromagna.com/event/2-fmi-camping-trophy-2026-gara-moto-grado-gorizia/
LOCATION:Gorizia\, Friuli Venezia Giulia\, Gorizia\, GO\, Italia
CATEGORIES:Gara Motociclistica
END:VEVENT
BEGIN:VEVENT
DTSTART;VALUE=DATE:20260424
DTEND;VALUE=DATE:20260427
DTSTAMP:20260426T044734
CREATED:20260420T124616Z
LAST-MODIFIED:20260420T124616Z
UID:10005925-1776988800-1777247999@www.motogpromagna.com
SUMMARY:TURISMO DISCOVERING NAZIONALE "1000 CURVE" 2026 Motoraduno Misano Adriatico RIMINI
DESCRIPTION:1000CURVE
URL:https://www.motogpromagna.com/event/turismo-discovering-nazionale-1000-curve-2026-motoraduno-misano-adriatico-rimini/
LOCATION:Rimini\, Emilia Romagna\, Rimini\, RN\, Italia
CATEGORIES:Motoraduno
END:VEVENT
BEGIN:VEVENT
DTSTART;VALUE=DATE:20260425
DTEND;VALUE=DATE:20260427
DTSTAMP:20260426T044734
CREATED:20260210T092622Z
LAST-MODIFIED:20260210T092622Z
UID:10005507-1777075200-1777247999@www.motogpromagna.com
SUMMARY:42° MOTORADUNO NAZIONALE CITTA’ DI RECANATI  2026 Motoraduno Recanati Macerata
DESCRIPTION:motoclubfrancouncini@libero.it \n\n\n\nProgramma in fase di allestimento. \nVia aspettiamo numerosi a Recanati con tante iniziative \nPiù siamo più ci diveramo . \n 
URL:https://www.motogpromagna.com/event/42-motoraduno-nazionale-citta-di-recanati-2026-motoraduno-recanati-macerata/
LOCATION:Macerata\, Marche\, Macerata\, MC\, Italia
CATEGORIES:Motoraduno
ATTACH;FMTTYPE=image/jpeg:https://www.motogpromagna.com/wp-content/uploads/2026/02/06.jpg
END:VEVENT
BEGIN:VEVENT
DTSTART;VALUE=DATE:20260425
DTEND;VALUE=DATE:20260427
DTSTAMP:20260426T044734
CREATED:20260219T080044Z
LAST-MODIFIED:20260219T080044Z
UID:10005566-1777075200-1777247999@www.motogpromagna.com
SUMMARY:OLBIA COSTA SMERALDA IN VESPA  2026 Motoraduno Olbia
DESCRIPTION:OLBIA@VESPACLUBDITALIA.IT \n\nPROGRAMMA DELLA MANIFESTAZIONE\n\nSABATO 25 APRILE\nORE 15:30 ISCRIZIONI P.ZZA ELENA DI GALLURA TERONTE BOMUNE)\nORE 17:30 GIRO TURISTICO\nORE 20:00 PIZZATA \nDOMENICA 26 APRILE\nDRE 8:30 ISCRIZIONI P.ZZA ELENA DI DALLURA (FRONTE COMUNEI CON COLAZIONE\nORE 10:00 PARTENZA BIRO TURISTICO\nORE 12:00 APERITIVO RISTORANTE LU STAZZU PORTO ROTONDOJ\nORE 13:00 PRANZO RISTORANTE LU STAZZU (PORTO ROTONDO)\nDURANTE IL PRANZO SI TERRANNO LE PREMIAZIONI (BADGET BARANTITI PER 300 PARTECIPANTI)\n[POSTI IN RISTORANTE GARANTITI PER 300 PARTECIPANTI] \nCOSTI SABATO:\nCONDUCENTE • PIZZATA € 25\,00\nPASSEGGERO • PIZZATA € 25\,00 \nCOSTI DOMENICA:\nCONDUCENTE CON RISTORANTE € 45.00\nPASSEGGERO CON RISTORANTE € 45\,00 \nSOLO GIRO CON GADGET € 15\,00 A PERSONA\nFULL SABATO E DOMENICA € 70\,00 \nADESIONI ENTRO IL 10-04-2028
URL:https://www.motogpromagna.com/event/olbia-costa-smeralda-in-vespa-2026-motoraduno-olbia/
LOCATION:Olbia Tempio\, Sardegna\, Olbia Tempio\, OT\, Italia
ATTACH;FMTTYPE=image/jpeg:https://www.motogpromagna.com/wp-content/uploads/2026/02/04-4.jpg
END:VEVENT
BEGIN:VEVENT
DTSTART;VALUE=DATE:20260425
DTEND;VALUE=DATE:20260427
DTSTAMP:20260426T044734
CREATED:20260302T152207Z
LAST-MODIFIED:20260302T152207Z
UID:10005625-1777075200-1777247999@www.motogpromagna.com
SUMMARY:MANETTE ALL’ ABETONE  2026 Motoraduno Castelfranco di Sopra Arezzo
DESCRIPTION:info@lemanette.it \n\nPer il ponte del 25 aprile abbiamo deciso di non stare a guardare gli altri che lucidano le moto in garage. Mettiamo in moto le belve e puntiamo le forcelle verso l’Appennino Tosco-Emiliano per un weekend che definire “di fuoco” è poco.\n\nAbbiamo messo insieme un giro che è un vero tributo alla piega: Passo delle Radici\, Passo dell’Abetone\, Passo della Futa e Passo della Consuma. Praticamente\, se dopo questi due giorni avete ancora le gomme con i “peli” ai lati\, vi si revoca la tessera del club d’ufficio! \nIl Programma\nSabato 25 Aprile: Verso le Vette\nOre 08.30: Tutti pronti al Bar “La Dolce Via” di Castelfranco di Sopra. Colazione\, chiacchiere e controllo pressione (delle gomme e della voglia di gas).\nOre 09.00: Partenza ufficiale. Si punta verso il cuore dell’Appennino.\nOre 11.00: Sosta tattica a Santa Croce sull’Arno presso il Cerri’S Bar per un caffè veloce.\nOre 12.45: Pranzo al Ristorante “Il Bugno” a Fornaci di Barga. Carichiamo le proteine che ci servono per la scalata.\nPomeriggio: Dopo una capatina veloce al borgo di Barga\, si riparte per aggredire il Passo delle Radici e scivolare verso l’hotel.\nSera: Arrivo a Fiumalbo\, cena al ristorante dell’Hotel Bristol e pernotto. Qui si ride\, si scherza e si raccontano pieghe (spesso inventate) fino a tardi.\n\nDomenica 26 Aprile: Il Dominio dei Passi\nMattina: Colazione energetica e ore 09.15 puntuali in sella. Ci aspetta sua maestà l’Abetone!\nOre 10.40: Pausa al Bar “Al Campanile” di Castel d’Aiano per riprendere fiato.\nOre 13.00: Si mangia (e bene!) alla Trattoria “Da Jolanda” a Firenzuola. La Futa chiama\, Jolanda risponde.\nPomeriggio: Chiudiamo in bellezza con il Passo della Consuma e l’immancabile sosta allo “Chalet” per l’ultimo saluto prima di rientrare in Valdarno. \nQuote di Partecipazione (Pacchetto All Inclusive)\nNon dovete pensare a nulla\, solo a guidare. La quota include: colazione del sabato e della domenica\, pranzi del sabato e della domenica\, cena del sabato\, pernotto e l’immancabile adesivo commemorativo per far schiantare d’invidia chi è rimasto a casa. \nSistemazione in Singola: 165 € per i soci de Le Manette – 175 per i non soci\nSistemazione in Doppia: 150 € per i soci de Le Manette – 160 per i non soci\nSistemazione in Tripla: 145 € per i soci de Le Manette – 155 per i non soci\nNOTA BENE: I posti sono limitati (l’hotel non è infinito!). Il giro è aperto a ogni tipo di moto e di manetta: l’importante è lo spirito di gruppo e la voglia di farsi due curve in santa pace.
URL:https://www.motogpromagna.com/event/manette-all-abetone-2026-motoraduno-castelfranco-di-sopra-arezzo/
LOCATION:Arezzo\, Toscana\, Arezzo\, AR\, Italia
CATEGORIES:Motoraduno
END:VEVENT
BEGIN:VEVENT
DTSTART;VALUE=DATE:20260425
DTEND;VALUE=DATE:20260427
DTSTAMP:20260426T044734
CREATED:20260420T124110Z
LAST-MODIFIED:20260420T124110Z
UID:10005921-1777075200-1777247999@www.motogpromagna.com
SUMMARY:mostra scambio auto e moto d'epoca \, oggetti del passato 2026 Mostra Moto PIEDIMONTE MATESE  CASERTA
DESCRIPTION:mostra scambio auto e moto d’epoca \, oggetti del passato – ex GEZOOW via figulantina a San Potito Sannitico \nmscambiopiedimonte@libero.it
URL:https://www.motogpromagna.com/event/mostra-scambio-auto-e-moto-depoca-oggetti-del-passato-2026-mostra-moto-piedimonte-matese-caserta/
LOCATION:Caserta\, Campania\, Caserta\, CE\, Italia
CATEGORIES:Mostra Moto & C.
END:VEVENT
BEGIN:VEVENT
DTSTART;VALUE=DATE:20260425
DTEND;VALUE=DATE:20260428
DTSTAMP:20260426T044734
CREATED:20260401T131501Z
LAST-MODIFIED:20260401T131501Z
UID:10005793-1777075200-1777334399@www.motogpromagna.com
SUMMARY:13 Mostra Scambio Moto e Bici d'Epoca 2026 Mostra Moto Badoere di Morgano Treviso
DESCRIPTION: 13 Mostra Scambio Moto e Bici d’Epoca in piazza la Rotonda\nproloco.morgano@gmail.com
URL:https://www.motogpromagna.com/event/13-mostra-scambio-moto-e-bici-depoca-2026-mostra-moto-badoere-di-morgano-treviso/
LOCATION:Treviso\, Veneto\, Treviso\, TV\, Italia
CATEGORIES:Mostra Moto & C.
END:VEVENT
BEGIN:VEVENT
DTSTART;VALUE=DATE:20260425
DTEND;VALUE=DATE:20260428
DTSTAMP:20260426T044734
CREATED:20260414T133143Z
LAST-MODIFIED:20260414T133143Z
UID:10005885-1777075200-1777334399@www.motogpromagna.com
SUMMARY:Alto Adriatico Motori d'Epoca 2026 Mostra Moto PORDENONE
DESCRIPTION:co Pordenone fiere
URL:https://www.motogpromagna.com/event/alto-adriatico-motori-depoca-2026-mostra-moto-pordenone/
LOCATION:Pordenone\, Friuli Venezia Giulia\, Pordenone\, PN\, Italia
CATEGORIES:Mostra Moto & C.
END:VEVENT
BEGIN:VEVENT
DTSTART;VALUE=DATE:20260426
DTEND;VALUE=DATE:20260427
DTSTAMP:20260426T044734
CREATED:20260216T100142Z
LAST-MODIFIED:20260302T152423Z
UID:10005557-1777161600-1777247999@www.motogpromagna.com
SUMMARY:VECCHI MOTORI IN VALTROMPIA 2026 Motoraduno Villa Carcina Brescia
DESCRIPTION:classiccarsvaltrompia@gmail.com \nORE 9:00- 12:30 (PIAZZA MERCATO\, VILLA CARCINA\, VIA GUGLIELMO MARCONI\n\n\n• Evento completamente gratuito;\n• Ingresso libero;\n• Esposizione auto e moto d’epoca ( con più di 20 anni) – eccetto le auto di Abarth Club;\n• Possibilità di pranzo presso Trattoria “IL CARICATORE” Gussago BS con posti limitati. \n\na
URL:https://www.motogpromagna.com/event/vecchi-motori-in-valtrompia-2026-motoraduno-villa-carcina-brescia/
LOCATION:Brescia\, Lombardia\, Brescia\, BS\, Italia
CATEGORIES:Motoraduno
ATTACH;FMTTYPE=image/jpeg:https://www.motogpromagna.com/wp-content/uploads/2026/02/13-2.jpg
END:VEVENT
BEGIN:VEVENT
DTSTART;VALUE=DATE:20260426
DTEND;VALUE=DATE:20260427
DTSTAMP:20260426T044734
CREATED:20260310T090506Z
LAST-MODIFIED:20260310T090506Z
UID:10005658-1777161600-1777247999@www.motogpromagna.com
SUMMARY:7° RADUNO AUTO E MOTO D’EPOCA  2026 Motoraduno Bedizzole Brescia
DESCRIPTION:motoclubduepercento@gmail.com \n\nPROVA CRONOMETRATA DI REGOLARITÀ NON COMPETITIVA FACOLTATIVA\n\nPROGRAMMA:\nORE 07.00: Ritrovo a Bedizzole in Piazza Europa per iscrizione\, colazione e punzonatura.\nORE 09.00: Inizio prova cronometrata con presentazione equipaggi\, vetture e moto.\nORE 09.20: Arrivo 1° equipaggio per riordino e classifiche.\nORE 10.30: Rinfresco aperitivo e visita alla CANTINA con ESPOSIZIONE EQUIPAGGI.\nORE 12.00: Partenza in autocolonna Colline Moreniche LAGO di GARDA.\nORE 13.00: PRANZO al Ristorante ” con ESPOSIZIONE EQUIPAGGI\, a seguire PREMIAZIONI\, piccola lotteria con ringraziamenti e Gadget. \nVISITA ALLA CANTINA ” AZIENDA AGRICOLA LE GAINE ” E GADGET RICORDO A TUTTI I PILOTI\nObbligatoria la prenotazione via E-MAIL entro 23 Aprile 2026. (In caso di pioggia la manifestazione verrà comunque svolta)
URL:https://www.motogpromagna.com/event/7-raduno-auto-e-moto-depoca-2026-motoraduno-bedizzole-brescia/
LOCATION:Brescia\, Lombardia\, Brescia\, BS\, Italia
CATEGORIES:Motoraduno
ATTACH;FMTTYPE=image/jpeg:https://www.motogpromagna.com/wp-content/uploads/2026/03/10-2.jpg
END:VEVENT
BEGIN:VEVENT
DTSTART;VALUE=DATE:20260426
DTEND;VALUE=DATE:20260427
DTSTAMP:20260426T044734
CREATED:20260313T083541Z
LAST-MODIFIED:20260313T083541Z
UID:10005672-1777161600-1777247999@www.motogpromagna.com
SUMMARY:3ª EDIZIONE RADUNO UFFICIALE SAN VINCENZO FERRERI  2026 Motoraduno  Sant'Antimo Napoli
DESCRIPTION:Manifestazione culturale dedicata alla tutela e valorizzazione del patrimonio storico \nPROGRAMMA UFFICIALE\n9:45 Accoglienza equipaggi e registrazione partecipanti – Welcome Coffee riservato ai soci e agli ospiti\n11:30 Santa Messa solenne e Benedizione dei veicoli storici\n12:30 – Cerimonia ufficiale di premiazione – Conferimento trofei\, coppe e riconoscimenti istituzionali
URL:https://www.motogpromagna.com/event/3a-edizione-raduno-ufficiale-san-vincenzo-ferreri-2026-motoraduno-santantimo-napoli/
LOCATION:Napoli\, Campania\, Napoli\, NA\, Italia
CATEGORIES:Motoraduno
ATTACH;FMTTYPE=image/jpeg:https://www.motogpromagna.com/wp-content/uploads/2026/03/08-3.jpg
END:VEVENT
BEGIN:VEVENT
DTSTART;VALUE=DATE:20260426
DTEND;VALUE=DATE:20260427
DTSTAMP:20260426T044734
CREATED:20260313T103239Z
LAST-MODIFIED:20260313T103239Z
UID:10005692-1777161600-1777247999@www.motogpromagna.com
SUMMARY:2° MOTOBENEDIZIONE 2026 Motoraduno Ururi CAMPOBASSO
DESCRIPTION:dettagli in locandina
URL:https://www.motogpromagna.com/event/2-motobenedizione-2026-motoraduno-ururi-campobasso/
LOCATION:Campobasso\, Molise\, Campobasso\, CB\, Italia
CATEGORIES:Motoraduno
ATTACH;FMTTYPE=image/jpeg:https://www.motogpromagna.com/wp-content/uploads/2026/03/25.jpg
END:VEVENT
BEGIN:VEVENT
DTSTART;VALUE=DATE:20260426
DTEND;VALUE=DATE:20260427
DTSTAMP:20260426T044734
CREATED:20260401T132516Z
LAST-MODIFIED:20260413T143946Z
UID:10005794-1777161600-1777247999@www.motogpromagna.com
SUMMARY:1° MOTORADUNO CITTÀ DI CAVE 2026 Motoraduno Cave Roma
DESCRIPTION:Il Comitato Madonna del Campo\, in prestigiosa collaborazione con l’associazione Motoraduni Bikers Roma\, è lieto di annunciare l’inaugurazione di un nuovo appuntamento d’eccellenza nel panorama motociclistico regionale.\n\n\nDomenica 26 Aprile 2026 si terrà la 1ª Edizione del Motoraduno Città di Cave\, un evento nato con l’ambizione di consolidarsi come una grande tradizione motoristica del territorio\, unendo la passione per le due ruote alla valorizzazione del patrimonio paesaggistico e conviviale laziale.\n\n\n PROGRAMMA DELLA MANIFESTAZIONE\n\n\nL’organizzazione ha predisposto un itinerario tecnico e culturale volto a garantire la massima sicurezza e il pieno coinvolgimento dei partecipanti:\n\n\n| Partenza da Roma: T.M.R Village.Via Lago Dei Tartari\, 8/10\, 00012 Albuccione RM.\n\n\nOrario di incontro ore 9:00\n\n\nPartenza ufficiale ore 9:30\n\n\nPer arrivarci clicca qui:\n\n\n\n\n\nOre 11:00 | Arrivo e Raggruppamento: Accoglienza dei motociclisti a Cave (RM) presso Piazza dei Santi e Patroni.\n\n\nOre 11:30 | I Motogiro Turistico: Partenza per il primo percorso guidato alla scoperta delle eccellenze del territorio.\n\n\nOre 13:00 | Momento Conviviale: Rientro a Cave per il pranzo collettivo allestito nella Piazza Centrale.\n\n\nOre 15:00 | II Motogiro: Partenza per il secondo itinerario pomeridiano.\n\n\n SERVIZI E BENEFIT AI PARTECIPANTI\n\n\n @tutti i centauri regolarmente accreditati verranno garantiti i seguenti servizi di cortesia:\n\n\nAccoglienza: Colazione offerta dal Comitato Madonna del Campo.\n\n\nRiconoscimenti: Consegna di un gadget omaggio celebrativo della prima edizione.\n\n\nOspitalità: Ticket per una consumazione (birra) omaggio presso i punti convenzionati del raduno.\n\n\n COORDINAMENTO E ISCRIZIONI\n\n\nPer garantire un’ottimale gestione dei flussi e per ulteriori specifiche tecniche\, si prega di iscriversi per partecipare all’evento.\n\n\nPer iscriversi clicca qui   \n\n\nSi invita il pubblico e i club partecipanti al rigoroso rispetto delle norme del Codice della Strada per garantire la natura celebrativa e sicura dell’evento.\n\n\nÈ ora di far cantare i motori e far sputare fuoco agli scarichi. \n\n\nCittà di Cave\, 26 Aprile 2026.\n\n\nMETTETE IN MOTO\, PORTATE LA SETE E NON ROMPETE LE MARCE! \n\n\n ATTENZIONE \n\n\nPer partecipare a questo evento si richiede una guida giudiziosa\, chi partecipa non deve essere un pericolo per sé e per gli altri partecipanti!\n\n\nGli organizzatori del Motoraduno\, declinano ogni responsabilità in caso di danni di qualsiasi natura a persone ed a cose\, prima\, durante e dopo l’evento!\n\n\nNOTA BENE:\n\n\nVenite puntuali\, per motivi inerenti al rispetto e l’obbligo della tabella di marcia non si possono aspettare ritardi alla partenza! \n\n\nVi aspettiamo tutti sereni e fate il pieno di adrenalina pura\, vi servirà per il viaggio che ci attende Domenica 26 Aprile. Venite puntuali e con il pieno alle Moto e. Buon Viaggio!\n\n\nMotoraduni Bikers Roma\n\n\nUna passione\, uno stile di vita.
URL:https://www.motogpromagna.com/event/1-motoraduno-citta-di-cave-2026-motoraduno-cave-roma/
LOCATION:Roma\, Lazio\, Roma\, Roma\, Italia
CATEGORIES:Motoraduno
ATTACH;FMTTYPE=image/jpeg:https://www.motogpromagna.com/wp-content/uploads/2026/04/01.jpg
END:VEVENT
BEGIN:VEVENT
DTSTART;VALUE=DATE:20260426
DTEND;VALUE=DATE:20260427
DTSTAMP:20260426T044734
CREATED:20260413T143617Z
LAST-MODIFIED:20260413T143617Z
UID:10005835-1777161600-1777247999@www.motogpromagna.com
SUMMARY:MOSTRA SCAMBIO RUGGINE  2026 Mostra Moto Santhià Vercelli
DESCRIPTION:rugginesanthia@gmail.com \n\n\n26 APRILE 2026 arriva la terza data primaverile della nostra manifestazione. \nPrima della pausa che ci porterà a settembre\, ci troveremo ancora una volta in piazza con la mostra scambio RUGGINE.\nSempre “Ruggine” e di ruggine ci occupiamo\, con una gamma di espositori hobbisti di qualità e con l’amore per la conservazione\, documentazione\, riuso del patrimonio meccanico-tecnologico legato alla mobilità su\ndue-tre-quattro ruote\, ed al vintage generale. \nIl nostro appuntamento\, capace di richiamare appassionati di tutto il Piemonte\, da regioni vicine ed anche da Svizzera e Francia\, con un numero di espositori e visitatori di qualità\, amatori\, restauratori o\nsemplici appassionati di bici\, moto\, auto\, giocattoli d’epoca e vintage. \nIngresso come sempre libero per il pubblico. \nSiamo in Piazza Aldo Moro a Santhià (Vercelli).\nPer gli espositori ingresso dalle 6.30 alle 8.00.\nPubblico dalle 8.00 alle 15.00 circa…\nNon serve prenotazione. \nIn caso di brutto tempo la manifestazione potrà subire annullamenti o ritardi.\nUna raccomandazione: se nel dubbio\, informarsi sempre prima per telefono per evitare viaggi inutili. Grazie!
URL:https://www.motogpromagna.com/event/mostra-scambio-ruggine-2026-mostra-moto-santhia-vercelli/
LOCATION:Vercelli\, Piemonte\, Vercelli\, VC\, Italia
CATEGORIES:Mostra Moto & C.
END:VEVENT
BEGIN:VEVENT
DTSTART;VALUE=DATE:20260426
DTEND;VALUE=DATE:20260427
DTSTAMP:20260426T044734
CREATED:20260413T143748Z
LAST-MODIFIED:20260413T143748Z
UID:10005836-1777161600-1777247999@www.motogpromagna.com
SUMMARY:GOOD BIKERS BUSKERS SHOW  2026 Motoraduno  Castellammare del Golfo Trapani
DESCRIPTION:Seconda edizione del Good Bikers Buskers show\, l’evento che raggruppa moto e artisti di strada\, evento aperto a tutti e tutti i tipi di moto. \n10:30 RAGGRUPPAMENTO MOTOCLUB\n11:00 INIZIO MANIFESTAZIONE\n11:30 SPETTACOLI ARTISTI DI STRADA\n12:30 CLAN ZERO IN CONCERTO\n14:00 SPETTACOLO ACROBATICO E DJ SET\n14:30 NYMERA IN CONCERTO\n16:00 PREMIAZIONE CLUB OSPITI\n17:00 BLUE MONKEYS IN CONCERTO\n18:30 SPETTACOLO ACROBATICO E DJ SET\n20:00 SPETTACOLO DEL FUOCO E DJ SET \nSTAND ESPOSITIVI TEMATICI – STAND TEMI SOCIALI – MONDO BIKERS\nStreet Food e Drink
URL:https://www.motogpromagna.com/event/good-bikers-buskers-show-2026-motoraduno-castellammare-del-golfo-trapani/
LOCATION:Trapani\, Sicilia\, Trapani\, TP\, Italia
CATEGORIES:Motoraduno
ATTACH;FMTTYPE=image/jpeg:https://www.motogpromagna.com/wp-content/uploads/2026/04/08-2.jpg
END:VEVENT
BEGIN:VEVENT
DTSTART;VALUE=DATE:20260426
DTEND;VALUE=DATE:20260427
DTSTAMP:20260426T044734
CREATED:20260413T143909Z
LAST-MODIFIED:20260413T143909Z
UID:10005837-1777161600-1777247999@www.motogpromagna.com
SUMMARY:MORDI E FUGGI IN VESPA  2026 Motoraduno Ripalta Guerina Cremona
DESCRIPTION:• RITROVO E ADESIONE PIAZZA TRENTO RIPALTA GUERINA ORE 8\,00\n•GIRO TURISTICO DEI NOSTRI PAESI E APERITIVO\n• RIENTRO PRANZO E MUSICA IN ORATORIO A RIPALTA GUERINA\n• 25 EURO COLAZIONE\, APERITIVO E MAGLIETTA\n• 35 EURO COLAZIONE\, APERITIVO\, PRANZO E MAGLIETTA PER IL PRANZO È OBBLIGATORIA LA PRENOTAZIONE\n• LOTTERIA CON RICCHI PREMI \nRICHIEDERE MODULO PER ISCRIZIONE ALMENO UN MESE PRIMA
URL:https://www.motogpromagna.com/event/mordi-e-fuggi-in-vespa-2026-motoraduno-ripalta-guerina-cremona/
LOCATION:Cremona\, Lombardia\, Cremona\, CR\, Italia
CATEGORIES:Motoraduno
ATTACH;FMTTYPE=image/jpeg:https://www.motogpromagna.com/wp-content/uploads/2026/04/09-2.jpg
END:VEVENT
BEGIN:VEVENT
DTSTART;VALUE=DATE:20260426
DTEND;VALUE=DATE:20260427
DTSTAMP:20260426T044734
CREATED:20260421T080717Z
LAST-MODIFIED:20260421T080717Z
UID:10005937-1777161600-1777247999@www.motogpromagna.com
SUMMARY:1^ E 2^ PROVA CIV CLASSIC 2026 Gara Moto AUTODROMO VALLELUNGA ROMA
DESCRIPTION:GENTLEMN’S MOTO CLUB
URL:https://www.motogpromagna.com/event/1-e-2-prova-civ-classic-2026-gara-moto-autodromo-vallelunga-roma/
LOCATION:Roma\, Lazio\, Roma\, Roma\, Italia
CATEGORIES:Gara Motociclistica
END:VEVENT
BEGIN:VEVENT
DTSTART;VALUE=DATE:20260426
DTEND;VALUE=DATE:20260427
DTSTAMP:20260426T044734
CREATED:20260421T080811Z
LAST-MODIFIED:20260421T080811Z
UID:10005938-1777161600-1777247999@www.motogpromagna.com
SUMMARY:CAMPIONATO ITALIANO ENDURO MAJOR 2026 Gara Moto PALOMBARA SABINA ROMA
DESCRIPTION:M.C. CECI CORSE
URL:https://www.motogpromagna.com/event/campionato-italiano-enduro-major-2026-gara-moto-palombara-sabina-roma/
LOCATION:Roma\, Lazio\, Roma\, Roma\, Italia
CATEGORIES:Motoraduno
END:VEVENT
BEGIN:VEVENT
DTSTART;VALUE=DATE:20260426
DTEND;VALUE=DATE:20260427
DTSTAMP:20260426T044734
CREATED:20260421T080916Z
LAST-MODIFIED:20260421T080916Z
UID:10005939-1777161600-1777247999@www.motogpromagna.com
SUMMARY:CAMPIONATO ITALIANO SPEEDWAY 2026 Gara Moto TERENZANO UDINE
DESCRIPTION:M.C. OLIMPIA
URL:https://www.motogpromagna.com/event/campionato-italiano-speedway-2026-gara-moto-terenzano-udine/
LOCATION:Udine\, Friuli Venezia Giulia\, Udine\, UD\, Italia
CATEGORIES:Gara Motociclistica
END:VEVENT
BEGIN:VEVENT
DTSTART;VALUE=DATE:20260426
DTEND;VALUE=DATE:20260427
DTSTAMP:20260426T044734
CREATED:20260421T080954Z
LAST-MODIFIED:20260421T080954Z
UID:10005940-1777161600-1777247999@www.motogpromagna.com
SUMMARY:TROFEO CENTRO ITALIA TRIAL 2026 Gara Moto ROCCANTICA RIETI
DESCRIPTION:M.C. TRE VALLI
URL:https://www.motogpromagna.com/event/trofeo-centro-italia-trial-2026-gara-moto-roccantica-rieti/
LOCATION:Rieti\, Lazio\, Rieti\, RI\, Italia
CATEGORIES:Gara Motociclistica
END:VEVENT
END:VCALENDAR