BEGIN:VCALENDAR
VERSION:2.0
PRODID:-//Motoraduni - MotoGP Romagna - ECPv6.0.13//NONSGML v1.0//EN
CALSCALE:GREGORIAN
METHOD:PUBLISH
X-WR-CALNAME:Motoraduni - MotoGP Romagna
X-ORIGINAL-URL:https://www.motogpromagna.com
X-WR-CALDESC:Eventi per Motoraduni - MotoGP Romagna
REFRESH-INTERVAL;VALUE=DURATION:PT1H
X-Robots-Tag:noindex
X-PUBLISHED-TTL:PT1H
BEGIN:VTIMEZONE
TZID:Europe/Rome
BEGIN:DAYLIGHT
TZOFFSETFROM:+0100
TZOFFSETTO:+0200
TZNAME:CEST
DTSTART:20260329T010000
END:DAYLIGHT
BEGIN:STANDARD
TZOFFSETFROM:+0200
TZOFFSETTO:+0100
TZNAME:CET
DTSTART:20261025T010000
END:STANDARD
END:VTIMEZONE
BEGIN:VEVENT
DTSTART;VALUE=DATE:20260421
DTEND;VALUE=DATE:20260422
DTSTAMP:20260421T023027
CREATED:20260420T124346Z
LAST-MODIFIED:20260420T124346Z
UID:10005922-1776729600-1776815999@www.motogpromagna.com
SUMMARY:CAMPIONATO ITALIANO QUAD CROSS 2026 Gara Moto LOC. CICIANO SAN VENANZO TERNI
DESCRIPTION:M.C. SCORPIONI
URL:https://www.motogpromagna.com/event/campionato-italiano-quad-cross-2026-gara-moto-loc-ciciano-san-venanzo-terni/
LOCATION:Terni\, Umbria\, Terni\, TR\, Italia
CATEGORIES:Gara Motociclistica
END:VEVENT
BEGIN:VEVENT
DTSTART;VALUE=DATE:20260421
DTEND;VALUE=DATE:20260422
DTSTAMP:20260421T023027
CREATED:20260420T124422Z
LAST-MODIFIED:20260420T124422Z
UID:10005923-1776729600-1776815999@www.motogpromagna.com
SUMMARY:CAMPIONATO ITALIANO SIDECARCROSS 2026 Gara Moto LOC. CICIANO SAN VENANZO TERNI
DESCRIPTION:M.C. SCORPIONI
URL:https://www.motogpromagna.com/event/campionato-italiano-sidecarcross-2026-gara-moto-loc-ciciano-san-venanzo-terni/
LOCATION:Terni\, Umbria\, Terni\, TR\, Italia
CATEGORIES:Gara Motociclistica
END:VEVENT
END:VCALENDAR