BEGIN:VCALENDAR
VERSION:2.0
PRODID:-//Motoraduni - MotoGP Romagna - ECPv6.0.13//NONSGML v1.0//EN
CALSCALE:GREGORIAN
METHOD:PUBLISH
X-ORIGINAL-URL:https://www.motogpromagna.com
X-WR-CALDESC:Eventi per Motoraduni - MotoGP Romagna
REFRESH-INTERVAL;VALUE=DURATION:PT1H
X-Robots-Tag:noindex
X-PUBLISHED-TTL:PT1H
BEGIN:VTIMEZONE
TZID:Europe/Rome
BEGIN:DAYLIGHT
TZOFFSETFROM:+0100
TZOFFSETTO:+0200
TZNAME:CEST
DTSTART:20260329T010000
END:DAYLIGHT
BEGIN:STANDARD
TZOFFSETFROM:+0200
TZOFFSETTO:+0100
TZNAME:CET
DTSTART:20261025T010000
END:STANDARD
END:VTIMEZONE
BEGIN:VEVENT
DTSTART;VALUE=DATE:20260213
DTEND;VALUE=DATE:20260214
DTSTAMP:20260419T194122
CREATED:20260212T113255Z
LAST-MODIFIED:20260212T113255Z
UID:10005540-1770940800-1771027199@www.motogpromagna.com
SUMMARY:OPEN CLUB HOUSE 2026 Motoraduno Castel Maggiore Bologna
DESCRIPTION:VENERDI 13 FEBBRAIOVi aspettiamo venite a conoscerci•Ore 20:30 OPEN CLUB HOUSE •inizio SERATA LATINA dalle ore 22:00 Via G. Di Vittorio 19 – Castel Maggiore (BO)
URL:https://www.motogpromagna.com/event/open-club-house-2026-motoraduno-castel-maggiore-bologna/
LOCATION:Bologna\, Emilia Romagna\, Bologna\, BO\, Italia
CATEGORIES:Motoraduno
ATTACH;FMTTYPE=image/jpeg:https://www.motogpromagna.com/wp-content/uploads/2026/02/18.jpg
END:VEVENT
BEGIN:VEVENT
DTSTART;VALUE=DATE:20260213
DTEND;VALUE=DATE:20260216
DTSTAMP:20260419T194122
CREATED:20251027T155317Z
LAST-MODIFIED:20251027T155317Z
UID:10005274-1770940800-1771199999@www.motogpromagna.com
SUMMARY:2° TREFFEN SUL PO  2026  Motoraduno Corno Giovine Lodi
DESCRIPTION:mc.unitiperilsorrisoditommy@gmail.com \n\nVisto il risultato dell’anno scorso ci riproviamo quest’anno e con Grande richiesta pronti per la seconda edizione del Treffen Sul Po nel ricordo di Tommy.\n\nPer info non esitate a contattare i numeri in locandina.
URL:https://www.motogpromagna.com/event/2-treffen-sul-po-2026-motoraduno-corno-giovine-lodi/
LOCATION:Lodi\, Lombardia\, Lodi\, LO\, Italia
CATEGORIES:Motoraduno
ATTACH;FMTTYPE=image/jpeg:https://www.motogpromagna.com/wp-content/uploads/2025/10/08-2-scaled.jpg
END:VEVENT
BEGIN:VEVENT
DTSTART;VALUE=DATE:20260213
DTEND;VALUE=DATE:20260216
DTSTAMP:20260419T194122
CREATED:20260207T160018Z
LAST-MODIFIED:20260207T160018Z
UID:10005497-1770940800-1771199999@www.motogpromagna.com
SUMMARY:13° SILAN TREFFEN 2026  Motoraduno  Lorica Cosenza
DESCRIPTION:info@silantreffen.it \n\nIL PRIMO E VERO TREFFEN INVERNALE PIU’ AL SUD D’EUROPA\n\nTra i raduni invernali d’Europa\, possiamo senza dubbio inserire anche il SilanTreffen. Nato\, come spesso succede\, per vivere un fine settimana alternativo tra pochi amici\, nelle ultime edizioni ha visto prendere parte più di 1.000 motociclisti nell’arco dei tre giorni ufficiali della manifestazione. Per questo pensiamo di avere una responsabilità\, ormai\, verso quei viaggiatori che considerano la Calabria una tappa fissa ogni terza domenica di febbraio.\nLa data che infatti è stata designata come il compleanno del SilanTreffen è la terza domenica di febbraio. Ciò che caratterizza un evento come il SilanTreffen è lo spirito di condivisione che accomuna i viaggiatori ed i motociclisti. Condivisione delle storie\, delle avventure e delle specialità gastronomiche dei luoghi d’origine che invitiamo a portare con se\, in modo che ogni bivacco diventi un punto di incontro.\nVi aspettiamo dal 13 al 15 febbraio tra le montagne della Sila. Non mancate! \nQUOTA DI PARTECIPAZIONE\n€ 20.00 A PERSONA
URL:https://www.motogpromagna.com/event/13-silan-treffen-2026-motoraduno-lorica-cosenza/
LOCATION:Cosenza\, Calabria\, Cosenza\, CS\, Italia
CATEGORIES:Motoraduno
ATTACH;FMTTYPE=image/jpeg:https://www.motogpromagna.com/wp-content/uploads/2026/02/01.jpeg
END:VEVENT
BEGIN:VEVENT
DTSTART;VALUE=DATE:20260213
DTEND;VALUE=DATE:20260216
DTSTAMP:20260419T194122
CREATED:20260210T100655Z
LAST-MODIFIED:20260210T100655Z
UID:10005519-1770940800-1771199999@www.motogpromagna.com
SUMMARY:MOSTRA SCAMBIO 2026 Mostra Moto Novegro Milano
DESCRIPTION:ricambi di auto\, moto\, cicli ed accessori d’epoca Segreteria: via Novegro – 20090 Segrate (MI) \nmostrascambio@parcoesposizioninovegro.it
URL:https://www.motogpromagna.com/event/mostra-scambio-2026-mostra-moto-novegro-milano/
LOCATION:Milano\, Lombardia\, Milano\, MI\, Italia
CATEGORIES:Mostra Moto & C.
END:VEVENT
END:VCALENDAR